BEGIN:VCALENDAR
VERSION:2.0
PRODID:-//217.26.50.199//NONSGML kigkonsult.se iCalcreator 2.26.9//
CALSCALE:GREGORIAN
METHOD:PUBLISH
X-FROM-URL:https://diana-gutjahr.ch
X-WR-TIMEZONE:Europe/Zurich
BEGIN:VTIMEZONE
TZID:Europe/Zurich
X-LIC-LOCATION:Europe/Zurich
BEGIN:STANDARD
DTSTART:20231029T030000
TZOFFSETFROM:+0200
TZOFFSETTO:+0100
RDATE:20241027T030000
TZNAME:CET
END:STANDARD
BEGIN:DAYLIGHT
DTSTART:20230326T020000
TZOFFSETFROM:+0100
TZOFFSETTO:+0200
RDATE:20240331T020000,20250330T020000
TZNAME:CEST
END:DAYLIGHT
END:VTIMEZONE
BEGIN:VEVENT
UID:ai1ec-1071@diana-gutjahr.ch
DTSTAMP:20231022T033036Z
CATEGORIES:
CONTACT:
DESCRIPTION:
DTSTART;VALUE=DATE:20231022
DTEND;VALUE=DATE:20231023
SEQUENCE:0
SUMMARY:Wahlsonntag
URL:https://diana-gutjahr.ch/Veranstaltung/wahlsonntag/
X-COST-TYPE:free
END:VEVENT
BEGIN:VEVENT
UID:ai1ec-1286@diana-gutjahr.ch
DTSTAMP:20231022T033036Z
CATEGORIES:
CONTACT:
DESCRIPTION:NR Diana Gutjahr\, Amriswil\nNR Michael Götte\, Tübach (SG)\nKR
  Eveline Bachmann\, Frauenfeld\n\nWo: bei Ruth + Ruedi Daepp\, Biomassehof
  Bleiche 1 in Arbon\nWann: Mittwoch\, 4. Oktober 2023\nZeit: 18.30 Uhr Apé
 ro mit einem Glühmost\n19.00 Uhr Start Talk mit Andrea Vonlanthen zum Them
 a: «Auf dem Weg nach Bern»\nNicht zögern! Anmeldung an: koni.bruehwiler@bl
 uewin.ch
DTSTART;TZID=Europe/Zurich:20231004T102300
DTEND;TZID=Europe/Zurich:20231004T112300
LOCATION:Ruth + Ruedi Daepp\, Biomassehof Bleiche 1 in Arbon
SEQUENCE:0
SUMMARY:SVP bi de Lüt – öffentlicher Anlass in Arbon
URL:https://diana-gutjahr.ch/Veranstaltung/svp-bi-de-luet-oeffentlicher-anl
 ass/
X-COST-TYPE:free
X-ALT-DESC;FMTTYPE=text/html:<!DOCTYPE HTML PUBLIC '-//W3C//DTD HTML 3.2//E
 N'>\\n<HTML>\\n<HEAD>\\n<TITLE></TITLE>\\n</HEAD>\\n<BODY><ul>\n<li>NR Dia
 na Gutjahr\, Amriswil</li>\n<li>NR Michael Götte\, Tübach (SG)</li>\n<li>K
 R Eveline Bachmann\, Frauenfeld</li>\n</ul>\n<p>Wo: bei Ruth + Ruedi Daepp
 \, Biomassehof Bleiche 1 in Arbon</p>\n<p>Wann: Mittwoch\, 4. Oktober 2023
 <br />\nZeit: 18.30 Uhr Apéro mit einem Glühmost<br />\n19.00 Uhr Start Ta
 lk mit Andrea Vonlanthen zum Thema: «Auf dem Weg nach Bern»</p>\n<p>Nicht 
 zögern! Anmeldung an: <u>koni.bruehwiler@bluewin.ch</u></p>\n</BODY></HTML
 >
END:VEVENT
BEGIN:VEVENT
UID:ai1ec-1313@diana-gutjahr.ch
DTSTAMP:20231022T033036Z
CATEGORIES:
CONTACT:
DESCRIPTION:„Administrative Belastung in den freien Berufen“\nProgramm_6. T
 ag-freier-Berufe_2023
DTSTART;TZID=Europe/Zurich:20231102T130000
DTEND;TZID=Europe/Zurich:20231102T170000
LOCATION:Hotel Bellevue Palace Salon du Palais\, Bern
SEQUENCE:0
SUMMARY:Podiumsdiskussion der freien Berufe Schweiz – SVFB
URL:https://diana-gutjahr.ch/Veranstaltung/podiumsdiskussion-der-freien-ber
 ufe-schweiz-svfb/
X-COST-TYPE:free
X-ALT-DESC;FMTTYPE=text/html:<!DOCTYPE HTML PUBLIC '-//W3C//DTD HTML 3.2//E
 N'>\\n<HTML>\\n<HEAD>\\n<TITLE></TITLE>\\n</HEAD>\\n<BODY><p>„Administrati
 ve Belastung in den freien Berufen“</p>\n<p><a href='https://diana-gutjahr
 .ch/wp-content/uploads/2023/10/Programm_6.-Tag-freier-Berufe_2023.pdf'>Pro
 gramm_6. Tag-freier-Berufe_2023</a></p>\n</BODY></HTML>
END:VEVENT
BEGIN:VEVENT
UID:ai1ec-1235@diana-gutjahr.ch
DTSTAMP:20231022T033036Z
CATEGORIES:
CONTACT:
DESCRIPTION:
DTSTART;TZID=Europe/Zurich:20231116T140000
DTEND;TZID=Europe/Zurich:20231116T170000
LOCATION:Weinfelden
SEQUENCE:0
SUMMARY:Wirtschaftsforum Thurgau
URL:https://diana-gutjahr.ch/Veranstaltung/wirtschaftsforum-thurgau/
X-COST-TYPE:free
END:VEVENT
BEGIN:VEVENT
UID:ai1ec-1311@diana-gutjahr.ch
DTSTAMP:20231022T033036Z
CATEGORIES:
CONTACT:
DESCRIPTION:Herbsttagung (admin.ch)\nEinmal jährlich lädt das SBFI die Beru
 fsbildungsakteure der Schweiz zu einer Tagung ein. Die Teilnehmenden erhal
 ten anhand von Referaten\, Kurzpräsentationen oder Podiumsdiskussionen Inf
 ormationen zum Tagungsthema.\nNicht zu kurz kommen soll bei der Herbsttagu
 ng die Kontaktpflege unter den Teilenehmenden. Das Tagungspublikum spiegel
 t das breite Spektrum der in die Berufsbildung involvierten Akteure: Vertr
 eterinnen und Vertreter des Bundes\, der Kantone (Berufsbildungsämter\, Be
 rufsfachschulen\, Berufs-\, Studien- und Laufbahnberatungsstellen) sowie v
 on Organisationen der Arbeitswelt (Berufs- und Branchenverbände\, Gewerksc
 haften).\nAnmeldung unter: SBFI Herbsttagung der Berufsbildung 2023 (zoon.
 ch)
DTSTART;TZID=Europe/Zurich:20231128T140000
DTEND;TZID=Europe/Zurich:20231128T160000
LOCATION:Kursaal\, Bern
SEQUENCE:0
SUMMARY:Podiumsdiskussion Herbsttagung – Berufsbildungsakteure der Schweiz
URL:https://diana-gutjahr.ch/Veranstaltung/podiumsdiskussion-herbsttagung-d
 er-berufsbildung/
X-COST-TYPE:free
X-ALT-DESC;FMTTYPE=text/html:<!DOCTYPE HTML PUBLIC '-//W3C//DTD HTML 3.2//E
 N'>\\n<HTML>\\n<HEAD>\\n<TITLE></TITLE>\\n</HEAD>\\n<BODY><p><a href='http
 s://www.sbfi.admin.ch/sbfi/de/home/bildung/bwb/bb-steuerung/herbsttagung.h
 tml'>Herbsttagung (admin.ch)</a></p>\n<p><b>Einmal jährlich lädt das SBFI 
 die Berufsbildungsakteure der Schweiz zu einer Tagung ein. Die Teilnehmend
 en erhalten anhand von Referaten\, Kurzpräsentationen oder Podiumsdiskussi
 onen Informationen zum Tagungsthema.</b></p>\n<p>Nicht zu kurz kommen soll
  bei der Herbsttagung die Kontaktpflege unter den Teilenehmenden. Das Tagu
 ngspublikum spiegelt das breite Spektrum der in die Berufsbildung involvie
 rten Akteure: Vertreterinnen und Vertreter des Bundes\, der Kantone (Beruf
 sbildungsämter\, Berufsfachschulen\, Berufs-\, Studien- und Laufbahnberatu
 ngsstellen) sowie von Organisationen der Arbeitswelt (Berufs- und Branchen
 verbände\, Gewerkschaften).</p>\n<p>Anmeldung unter: <a href='https://app.
 zoon.ch/event/sbfi-herbsttagung-der-berufsbildung-2023'>SBFI Herbsttagung 
 der Berufsbildung 2023 (zoon.ch)</a></p>\n</BODY></HTML>
END:VEVENT
BEGIN:VEVENT
UID:ai1ec-1182@diana-gutjahr.ch
DTSTAMP:20231022T033036Z
CATEGORIES:
CONTACT:
DESCRIPTION:
DTSTART;TZID=Europe/Zurich:20240410T180000
DTEND;TZID=Europe/Zurich:20240410T210000
SEQUENCE:0
SUMMARY:Lions Frauenfeld
URL:https://diana-gutjahr.ch/Veranstaltung/lions-frauenfeld/
X-COST-TYPE:free
END:VEVENT
END:VCALENDAR
